BEGIN:VCALENDAR
VERSION:2.0
PRODID:-//The Bronze Chapter - ECPv6.15.20//NONSGML v1.0//EN
CALSCALE:GREGORIAN
METHOD:PUBLISH
X-WR-CALNAME:The Bronze Chapter
X-ORIGINAL-URL:https://thebronzechapter.org
X-WR-CALDESC:Events for The Bronze Chapter
REFRESH-INTERVAL;VALUE=DURATION:PT1H
X-Robots-Tag:noindex
X-PUBLISHED-TTL:PT1H
BEGIN:VTIMEZONE
TZID:America/Los_Angeles
BEGIN:DAYLIGHT
TZOFFSETFROM:-0800
TZOFFSETTO:-0700
TZNAME:PDT
DTSTART:20250309T100000
END:DAYLIGHT
BEGIN:STANDARD
TZOFFSETFROM:-0700
TZOFFSETTO:-0800
TZNAME:PST
DTSTART:20251102T090000
END:STANDARD
BEGIN:DAYLIGHT
TZOFFSETFROM:-0800
TZOFFSETTO:-0700
TZNAME:PDT
DTSTART:20260308T100000
END:DAYLIGHT
BEGIN:STANDARD
TZOFFSETFROM:-0700
TZOFFSETTO:-0800
TZNAME:PST
DTSTART:20261101T090000
END:STANDARD
BEGIN:DAYLIGHT
TZOFFSETFROM:-0800
TZOFFSETTO:-0700
TZNAME:PDT
DTSTART:20270314T100000
END:DAYLIGHT
BEGIN:STANDARD
TZOFFSETFROM:-0700
TZOFFSETTO:-0800
TZNAME:PST
DTSTART:20271107T090000
END:STANDARD
END:VTIMEZONE
BEGIN:VEVENT
DTSTART;TZID=America/Los_Angeles:20260428T183000
DTEND;TZID=America/Los_Angeles:20260428T193000
DTSTAMP:20260420T020749
CREATED:20260401T173628Z
LAST-MODIFIED:20260416T170852Z
UID:11872-1777401000-1777404600@thebronzechapter.org
SUMMARY:Virtual Travel Journal: a casual connection to Catalina Island
DESCRIPTION:Let’s chillax together for an hour of dreamy adventure connection after work on Tuesday\, April 28th. \nOur friend Nicole Snell recently returned from a solo hike along the Trans-Catalina Trail (TCT) and we’ve asked her to share this journey with us! We’ll also talk about my experience visiting Catalina Island as a tourist\, and our shared desire to scuba dive the area’s kelp forests. \nNicole is lead personal safety instructor with IMPACT Personal Safety and owner of Girls Fight Back AND one of the empowering instructors for our Town to Trails: From Fear to Fearless workshop on May 16\, 2026. \nLocated almost 22 miles off the coast of Southern California\, Santa Catalina Island (Pima by the Pima Tongvan people who lived there thousands of years ago) charms visitors with breathtaking ocean views\, gentle hills\, stark cliffs\, free-roaming Bison with a unique film industry backstory\, awesome scuba diving\, and more. \nThe island’s Trans-Catalina Trail is as rugged as the island is beautiful – known for steep ups and downs\, intense sun exposure\, and need for some organizational prowess. \n⛰️ The gathering is free\, but we still need you to sign up so we can send you the Zoom link. \nSign me up! \n \nDid Nicole suffer exposure? Cross paths with the island’s famous free-roaming Bison? Did she have to protect her suppers from 5-pound endemic Island Fox ? How did her legs survive a trail notorious for having zero switchbacks? And did she partake in the island’s famous Buffalo Milk cocktail to celebrate her accomplishment? \nPull up for this free community gathering and find out on Tuesday\, April 28\, 6:30pm – 7:30pm PDT. Bring your supper\, evening sip\, blanket\, and questions. \n \nNicole will share her Virtual Travel Journal photos\, stories\, and tips to inspire curiosity and promote the heart-opening and mind-expanding transformations that travel is known for. \nTake me to Catalina Island!
URL:https://thebronzechapter.org/event/virtual-travel-journal-a-casual-connection-to-catalina-island/
ATTACH;FMTTYPE=image/jpeg:https://thebronzechapter.org/wp-content/uploads/2026/04/12019-catalina-island-1587271.jpg
END:VEVENT
END:VCALENDAR